BEGIN:VCALENDAR
VERSION:2.0
METHOD:PUBLISH
BEGIN:VEVENT
UID:WILD_APRICOT_EVENT_2501027_SESSION_1
DTSTART:20170527T233000Z
DTEND:20170528T060000Z
SUMMARY:PSN Permabee - May 28 - North Turramurra
LOCATION:Address provided with event registration
DESCRIPTION:https://permaculturenorth.org.au/event-2501027\n\n\nOur May Permabee has us returning to Filipa's garden\, in North Turramurra. \n\n  Filipa continues expanding her permaculture garden\, following on from her 'PSN Introduction to Permaculture'\, moving from the front yard\, to the back. \n  Last year PSN members helped bring to life a curb orchard.   This May we move to the back creating compost bays\, no dig gardens with sheet mulching and more.\n  Further details will be added to the event as they are confirmed. \n  Note\, access to the back garden is steep. Though the work area for most of the day is flat itself.  There is alternative access\, being a short walk around the back\, which isn't as steep.  \n\n     Kids are very welcome\, though there is an un-fenced creek at the bottom of the garden. Adult supervision is essential. Please let the gardens team know if you plan to bring kids and we will ensure they are registered for the event. \n   The permabee starts at 9:30\, and it's important to be there on time if possible as the day will kick off with introductions\, a project briefing and safety talk.\n\n  WHAT TO BRING...\n\n  Morning tea\, lunch and afternoon tea will be provided. If you are able to bring along a little something to share that would be wonderful. \n  Please bring personal protection equipment such as a enclosed shoes/ boots\, hat\, gloves\, sunscreen and a water bottle.\n  Once registered\, you will receive a confirmation email\, with the address\, it is towards the bottom of the email. \n  Any questions\, please contact the Garden Team via garden@permaculturenorth.org.au.\n  Hope to see you there!\n
DTSTAMP:20260424T221831Z
END:VEVENT
END:VCALENDAR
