BEGIN:VCALENDAR
VERSION:2.0
METHOD:PUBLISH
BEGIN:VEVENT
UID:WILD_APRICOT_EVENT_2573996_SESSION_1
DTSTART:20170821T090000Z
DTEND:20170821T113000Z
SUMMARY:PSN Monthly Meeting: The Hidden Cost of Consumption with Greg Meyer
LOCATION:Lindfield Community Hall\, 259 Pacific Highway\, Lindfield
DESCRIPTION:https://permaculturenorth.org.au/event-2573996\n\nThe Hidden Cost of Consumption with Greg Meyer\n  Greg Meyer from Permaculture Sydney West explains what our lifestyle really costs and who is paying for it.\n  Our true power as consumers lies in what we don’t buy.  \n  How you spend your money can clean up our planet faster than governments\, rallies and petitions.\n  \n\n  Think of Ethic 3 every time you reach for your wallet. (Fair Share).\n\n  Fair Share is about taking what we need and sharing what we don’t whilst recognising that there are limits to how much we can give and how much we can take.\n  Clothes Swap till you Drop!\n  in line with the topic for the evening’s talk\, we’ll be putting theory into practice with a PSN clothes swap. Here’s your big chance to trawl through your wardrobe to find any unwanted clothing &/or accessories (hats\, gloves\, scarves\, belts\, etc) that you want to swap.\n  A few basic rules:\n  •All items to be freshly cleaned and in good condition\n  •No underwear or swimwear\n  •Maximum 10 items.\n  When the swap is over\, all unclaimed items will be donated to charity.\n  \n\n  Free for members\, $5 for guests. \n\n  Doors open at 6:30pm - a good time to check out our members' library & catch up with other PSN members. \n  Please join us for supper after the talk and swap.\n
DTSTAMP:20260424T172953Z
END:VEVENT
END:VCALENDAR
