BEGIN:VCALENDAR
VERSION:2.0
METHOD:PUBLISH
BEGIN:VEVENT
UID:WILD_APRICOT_EVENT_2576121_SESSION_1
DTSTART:20170625T040000Z
DTEND:20170625T063000Z
SUMMARY:Hornsby Local Meeting - Introduction to Biochar
LOCATION:Pennant Hills
DESCRIPTION:https://permaculturenorth.org.au/event-2576121\n\n  \n\n  On 25th June Stephanie Robertson and Peter Wright will present a talk on the pros and cons of biochar as a soil amendment and as a method of carbon sequestration in the fight against climate change. Methods of making your own biochar will be discussed.Time permitting\,this will be followed by the inauguration of Stephanie's 60L biochar burner.\n
DTSTAMP:20260424T175132Z
END:VEVENT
END:VCALENDAR
