BEGIN:VCALENDAR
VERSION:2.0
METHOD:PUBLISH
BEGIN:VEVENT
UID:WILD_APRICOT_EVENT_2578917_SESSION_1
DTSTART:20171118T223000Z
DTEND:20171119T050000Z
SUMMARY:PSN Permabee - November 19 - Hornsby
LOCATION:Address provided with event registration
DESCRIPTION:https://permaculturenorth.org.au/event-2578917\n\n\nPermabee - November 19 - Hornsby\nLiz participated in the recent PSN Introduction to Permaculture and is keen to start on her plan.   Tasks for the day are in the process of being confirmed at the moment\, with the event being updated shortly. \n  The permabee starts at 9:30 and it's important to be there on time if possible as the day will kick off with introductions\, a project briefing and safety talk.\n  WHAT TO BRING...\n  Morning tea\, lunch and afternoon tea will be provided.\n  Please bring personal protection gear such as a enclosed shoes/ boots\, hat\, gloves\, sunscreen and a water bottle.\n  The address will be provided once registration has been completed. The address is within the emailed confirmation\, towards the bottom of the email. \n  BULK ORDER ITEMS...\n \n Don't forget\, PSN has available the following items for member purchase\; Pond liner\, Charlie Carp\, Double Strength Kelp and Fish hydrolysate. Orders can be collected from permabees or our regular monthly PSN Lindfield meeting. \n\n  Any questions\, please contact the Garden Team - garden@permaculturenorth.org.au  \n
DTSTAMP:20260424T222057Z
END:VEVENT
END:VCALENDAR
