BEGIN:VCALENDAR
VERSION:2.0
METHOD:PUBLISH
BEGIN:VEVENT
UID:WILD_APRICOT_EVENT_2582779_SESSION_1
DTSTART:20171013T220000Z
DTEND:20171014T020000Z
SUMMARY:Introduction to Permaculture -10 wk course starting 14 October 2017
LOCATION:Various locations to be advised
DESCRIPTION:https://permaculturenorth.org.au/event-2582779\n\n\n\n  Book now for this exciting 10-week permaculture course\n\n  \nDates: 14 October to 18 November & 10 February 10 to 3 March - 2018.\n  Saturday mornings 9.00am to 1.00pm.\n  \n\n  Cost:\n\n  Members:             $250\n  Non members:     $280 (incudes membership of PSN)\n\n  Included\n  Course fee includes excursions\, garden inspections\, and a copy of the textbook:\n  “Introduction to Permaculture” by Bill Mollison.\nLocations  Each session will be held at a permaculture garden and details will be forwarded after enrolment.\n  What you will learn\n\n  The course will concentrate on Permaculture in a home garden. During the course of the 10 weeks\, you will learn\n  ·       how to apply the Permaculture principles to your home garden design which can be a suburban backyard\, balcony\, rooftop\, courtyard\, planter boxes in a sunny part of your house or apartment\, or pots on a window ledge.\n  ·       how to incorporate the secrets of secrets of herb spirals\, swales\, and keyhole gardens into your garden plan\n  ·       how to analyse and document the features\, that affect your choices and how to overcome the challenges that each garden brings. By the end of the course you will have learned how to design a permaculture garden and choose the best plants and animals that will suit your situation.\n  However\, most importantly\, you will learn\n  ·       how to test and nurture your soil\, that magical medium that recycles so much “waste” and offers us so much in return.  \n  This course is offered to PSN members only. The presenters are offering their time as a gift to PSN members. You can join Permaculture Sydney North on our website http://permaculturenorth.org.au/\n  Flyer with more information\n\n  Please click here for more information on our flyer\n\n  20171014_PSN 2017 Final A4 2-up flyer.pdf\n\nRead what previous students said\n \n 20161112_Intro course testimonials.pdf\n \n Bookings  Book your place at\n  http://www.permaculturenorth.org.au/event-2582779\n  \n\n
DTSTAMP:20260424T160602Z
END:VEVENT
END:VCALENDAR
