BEGIN:VCALENDAR
VERSION:2.0
METHOD:PUBLISH
BEGIN:VEVENT
UID:WILD_APRICOT_EVENT_2599194_SESSION_1
DTSTART:20170715T230000Z
DTEND:20170716T020000Z
SUMMARY:PSN Mini Permabee July 16 - Creating a Better Seed Saving
LOCATION:Marsfield
DESCRIPTION:https://permaculturenorth.org.au/event-2599194\n\nJuly sees PSN members helping improve our Seed Savers working environment.\n  We will be moving benches\, sinks and tables. \n  Cleaning trays and pots.\n  Create a hot house\, and a green house. \n  Many hands makes light work\, helping us complete the improvements in half a day. \n  As usual\, please bring hat\, enclosed shoes\, water bottle and gloves. \n  The address will be provided within your registration confirmation email\, following the event details. \n
DTSTAMP:20260424T192647Z
END:VEVENT
END:VCALENDAR
