BEGIN:VCALENDAR
VERSION:2.0
METHOD:PUBLISH
BEGIN:VEVENT
UID:WILD_APRICOT_EVENT_2604511_SESSION_1
DTSTART:20170923T010000Z
DTEND:20170923T040000Z
SUMMARY:PSN Stall at Hornsby Council's Sustainable Garden Day - Galston - Sat 23 Sep 2017
LOCATION:Fagan Park\, Arcadia Road\, Galston
DESCRIPTION:https://permaculturenorth.org.au/event-2604511\n\nCome join PSN members at the PSN Stall at the Hornsby Council's Sustainable Garden Day.  \n  Come for an hour\, or several hours to have a chat or to assist with the stall.\n  Bring your friends and family along!\n  The Sustainable Garden day is a great way to inspire your friends and family to go out into the garden and learn about sustainable living! Come for the talks\, tours\, kids' activities\, giveaways and great displays. \n\n      * Plant Giveaway\n\n        * Garden and Compost Tour\n\n        * Native and Honey Bees\n\n        * Backyard Chickens \n\n        * Water Wise Displays\n\n        * Plenty of Kids Activities\n\n        * Music\n\n        * Bushcare/Landcare\n\n        *      Preserving/reducing food waste\n   \n\n        *      and many more....\n   \n\nVenue:  Eco Garden\n Location: Fagan Park\, Arcadia Road\, Galston\n Time: 11am - 2pm\n Cost: Free ($5 parking fee per vehicle)  \n\n
DTSTAMP:20260424T173253Z
END:VEVENT
END:VCALENDAR
