BEGIN:VCALENDAR
VERSION:2.0
METHOD:PUBLISH
BEGIN:VEVENT
UID:WILD_APRICOT_EVENT_2622301_SESSION_1
DTSTART:20170903T040000Z
DTEND:20170903T063000Z
SUMMARY:Making Kimchi -  3rd Sept - Local Group Meeting September
LOCATION:EPPING
DESCRIPTION:https://permaculturenorth.org.au/event-2622301\n\nMaking Kimchi - Local Groups Meeting for September.\n  Sunday\, September 3rd at 2.00 pm in Epping (address given on registration)\n  Everyone welcome - hosted by Ku-ring-gai local group\n  With Judy Major we will make a delicious brew of kimchi (not the hot variety). Bring a lidded jar to take home your share\, keep it for two or three days and it will be a treat for your tummy -  delicious\, healthy and full of probiotics.  \n  Judy will buy the ingredients which we will refund. She will need to know the numbers in order to do the shopping\, so please register. Judy’s kitchen is quite small so we have to say a limit of ten.\n  Bring something tasty for afternoon tea\, coffee and tea supplied.\n  We are looking forward to a very interesting afternoon.\n  Di Evans  and Diana Watson\n  education@permaculturenorth.org.au\n  Please register at \n http://www.permaculturenorth.org.au/event-2622301\n\n
DTSTAMP:20260424T160720Z
END:VEVENT
END:VCALENDAR
