BEGIN:VCALENDAR
VERSION:2.0
METHOD:PUBLISH
BEGIN:VEVENT
UID:WILD_APRICOT_EVENT_2625009_SESSION_1
DTSTART:20170901T233000Z
DTEND:20170902T060000Z
SUMMARY:Permabee  2nd Sept 2017 - Pennant Hills
LOCATION:Pennant Hills
DESCRIPTION:https://permaculturenorth.org.au/event-2625009\n\nSeptember sees the Garden Team and our willing volunteers head to Stephanie's well established Permaculture garden.  There is plenty to learn from this garden.\n  Activities planned include renovation of the banana circle\, construction of a day area for the chooks\, construction of a cold frame from found objects and other projects depending on time available.\n  Stephanie will also be discussing and demonstrating the creation of biochar for use in the garden.\n\n  On the day be sure to wear good shoes\, and bring your hat\, sunscreen\, gloves and water bottle. \n\n  Once registered\, the address will be emailed to you (its at the bottom of the email)\n  See you there. \n
DTSTAMP:20260424T162440Z
END:VEVENT
END:VCALENDAR
