BEGIN:VCALENDAR
VERSION:2.0
METHOD:PUBLISH
BEGIN:VEVENT
UID:WILD_APRICOT_EVENT_2673417_SESSION_1
DTSTART:20171118T030000Z
DTEND:20171118T050000Z
SUMMARY:Living Skills: Medicinal Creams\, Ointments and Tinctures\, Saturday November 18th\, 2-4 pm\, Waverton
LOCATION:Waverton
DESCRIPTION:https://permaculturenorth.org.au/event-2673417\n\n            \n            \n            Living Skills Workshop:\n     Medicinal Creams\, Ointments and Tinctures\n     Saturday November 18th\n      Come to learn how to capture active medicinal substances and fragrances from plants to make creams\, ointments and tinctures. They can be be made at home very easily\, mainly from ingredients commonly found in most households\, garden herbs and using simple kitchen utensils. \n\nWe will make a simple soothing cream to treat dry\, cracked skin and eczema from chickweed\, chamomile and calendula\, setting it with beeswax melted in warm almond oil. Everyone will take home a jar of the cream.\n  This workshop will be conducted by Margaret Mossakowska.\n\n\n What to bring:\n      * a notebook to make notes\n\nRegister by clicking on the "Register" button. If you have problems with registering\, please email livingskills@permaculturenorth.org.au\n\n
DTSTAMP:20260424T162619Z
END:VEVENT
END:VCALENDAR
