BEGIN:VCALENDAR
VERSION:2.0
METHOD:PUBLISH
BEGIN:VEVENT
UID:WILD_APRICOT_EVENT_2684018_SESSION_1
DTSTART:20180820T090000Z
DTEND:20180820T113000Z
SUMMARY:PSN Monthly Meeting - Bio-Intensive One Acre Farming with Brett Cooper
LOCATION:Lindfield Community Hall\, 259 Pacific Highway\, Lindfield
DESCRIPTION:https://permaculturenorth.org.au/event-2684018\n\nBio-Intensive One Acre Farming with Brett Cooper \n  "We feel there has been an ‘awakening’ across our beautiful country\, self reliance is on the rise again\, urban & rural homesteading has people taking their food & energy supply back into their own hands. You can live a more natural\, healthy & happier life\, regardless of your home location or job type."\n  \n\n  The talk will include details of Brett & Nici's extremely productive property (Limestone Permaculture Farm) including:\n      * Full farm design\, including a market garden\, kitchen garden & intensive orchard / food forest on swales\n\n\n        * Animal management of poultry\, sheep & goats\n\n\n        * Farmgate set-up\n\n\n        * European & native bee keeping\n\n\n        * Native bush foods \n\n\n        * Seed saving & propagation\n\n\n        * Purpose built structures \n\n\n        * Farm fresh nutritious wholefood cooking\n\n  To explain how they achieve their intensive gardening so effectively\, he will also explain the importance of:\n      * Composting\, manure teas & soil health\n\n\n        * Limestone methods of No-dig & Sheet mulching\n\n\n        * Seasonal plant selection & succession’\n\n\n        * Planting in ‘Guilds’ for intensive stacked vegetables & herbs\n\n\n        * Incorporating vertical & overhead growing into the garden\n\n\n        * Weed ecology (weeds for green mulch and manure)\n\n  For a sneak preview of Limestone Permaculture Farm\, click on www.limestonepermaculture.com.\n  Free for members\, small donation for guests. \n\n  Doors open at 6:30pm - a good time to check out our members' library & catch up with other PSN members. \n  Please join us for supper after the talk.\n
DTSTAMP:20260424T160311Z
END:VEVENT
END:VCALENDAR
