BEGIN:VCALENDAR
VERSION:2.0
METHOD:PUBLISH
BEGIN:VEVENT
UID:WILD_APRICOT_EVENT_2696129_SESSION_1
DTSTART:20171028T223000Z
DTEND:20171029T050000Z
SUMMARY:Permabee - October 29 - Carlingford
LOCATION:Carlingford
DESCRIPTION:https://permaculturenorth.org.au/event-2696129\n\n\n\n  Come and join us for an eclectic mix of permie activities at the October permabee. Cecilia’s garden has got a bit out of hand over the last few months and she’d really appreciate some help getting it back on track. Not all activities have been confirmed but could well include:\n\n      * ·       Creating a wicking bed from an old bath\n\n        * ·       Setting up an aerobin\n\n        * ·       Preparing beds and planting out (if you have spare seedlings there will be swaps!)\n\n        * ·       Setting up a neighbourhood ‘help-yourself-to-my-herbs’ in the front garden\n\n        * ·       Garden maintenance\n\n        * ·       Refreshing swales\n\n        * ·       Making sauerkraut – why not?\n\n        * ·       Participants can take home cuttings from the garden (swaps encouraged)\n\n        * ·       Eating a sumptuous lunch (or so we’re told!)\n\n  We always have a good time at permabees whether setting up something new\, learning a skill or just enjoying each other’s company. There’s something for everyone. If you are not up for the social side there are always individual tasks\; plenty to choose from!\n  WHAT TO BRING...\n      * Morning tea\n\n        * Personal protection such as enclosed shoes/boots\, hat\, gloves\, sunscreen\, water bottle\n\n        * Address and further information will be sent in an email following completion of registration.\n\n  Any questions\, please contact the Cecilia    president@permaculturenorth.org.au  \n  \n\n
DTSTAMP:20260424T160546Z
END:VEVENT
END:VCALENDAR
