BEGIN:VCALENDAR
VERSION:2.0
METHOD:PUBLISH
BEGIN:VEVENT
UID:WILD_APRICOT_EVENT_2715683_SESSION_1
DTSTART:20171126T030000Z
DTEND:20171126T053000Z
SUMMARY:Willoughby Local Group Meeting - 26 November 2017
LOCATION:Address provided with event registration
DESCRIPTION:https://permaculturenorth.org.au/event-2715683\n\n\n\n  Basket making with plastic bags\n  An event not to be missed! Bridget Kennedy\, our esteemed professional jeweler is running a workshop on how to transform waste materials such as plastic bags into baskets. \n  Below is her description of the workshop: \n  "The weaving of baskets is as old as the history of man. One of the techniques\, coiling\, involves winding fibre around a core while stitching it every so often. Traditionally\, grasses\, trees and other natural fibres were used to make containers. However\, we’ll be making them out of discarded plastic bags\, old fabrics\, and other flexible materials."  \n  Please make sure you bring along some scrap materials you might like to incorporate and a yarn needle and join us as we learn a simple coiling technique to make our own baskets.\n\n  Here is an image of the gorgeous baskets she makes.\n\n  Other highlights of this event:\n  - Garden tour\n  - Ginger beer making with Barbara\n  - Willoughby Local Group Christmas party\n  Event is strictly limited to 15 participants and due to the popularity of this event.\n  For more information contact Wendy Dwyer\, Co-ordinator\, Willoughby Local Group\n  Mob: 0410280912\n  \n\n     Please make sure you bring along some scrap materials you might like to incorporate and a yarn needle and join us as we learn a simple coiling technique to make our own baskets. 
DTSTAMP:20260424T204814Z
END:VEVENT
END:VCALENDAR
