BEGIN:VCALENDAR
VERSION:2.0
METHOD:PUBLISH
BEGIN:VEVENT
UID:WILD_APRICOT_EVENT_2715861_SESSION_1
DTSTART:20171209T030000Z
DTEND:20171209T050000Z
SUMMARY:Living Skills: Christmas decorations from natural and recycled materials
LOCATION:Denistone
DESCRIPTION:https://permaculturenorth.org.au/event-2715861\n\n                      \n            Living Skills:\n     Christmas decorations from natural and recycled materials\n            Saturday\, December 9th\, Denistone\n    \n  Let your Christmas be more sustainable this year! Learn how to make Christmas decorations from recycled and natural materials\, such as straws (natural or recycled plastic ones)\, recycled tissue or wrapping paper\, pinecones and nuts. Not only you will save these materials from landfill\, you also save money and will have a beautifully decorated tree :)\n  Come to spend time doing crafty things\, no special skills needed! If you could bring some Christmas nibbles\, this will bring us into a festive mood.\n\n What to bring:\n      * materials: natural straw (round\, at least 5 cm long pieces) or used plastic straws\; recycled wrapping paper and tissue paper (can be slightly wrinkled)\; recycled postcards\; small pinecones (for example\, she-oak) or eucalyptus nuts\n\n        * sharp craft scissors\n\n        * a camera to take photos\n\nRegister by clicking on the "Register" button. If you have problems with registering\, please email mmossakowska@yahoo.com.au\n \n
DTSTAMP:20260424T175606Z
END:VEVENT
END:VCALENDAR
