BEGIN:VCALENDAR
VERSION:2.0
METHOD:PUBLISH
BEGIN:VEVENT
UID:WILD_APRICOT_EVENT_2740964_SESSION_1
DTSTART:20171202T030000Z
DTEND:20171202T050000Z
SUMMARY:Ryde Local Group Meeting - Christmas Party
LOCATION:Marsfield - address available with registration
DESCRIPTION:https://permaculturenorth.org.au/event-2740964\n\n\n  Ryde Group Christmas Party!\n\nChristmas is approaching rapidly\, so Ryde group's last gig for the year will be our Christmas party.  It will be held at Peter Pez's place at Marsfield on Saturday the 2nd Dec. at 2pm.\n  Margaret will be doing a talk on Polish Christmas decorations.So bring a Christmassy plate to share and your own favourite beverage be it soft or wine etc.Looking forward to seeing you all on the day! \n\n     \n 
DTSTAMP:20260424T160444Z
END:VEVENT
END:VCALENDAR
