BEGIN:VCALENDAR
VERSION:2.0
METHOD:PUBLISH
BEGIN:VEVENT
UID:WILD_APRICOT_EVENT_2769371_SESSION_1
DTSTART:20171225T130000Z
DTEND:20180131T130000Z
SUMMARY:PSN Summer Break
LOCATION:
DESCRIPTION:https://permaculturenorth.org.au/event-2769371\n\nPSN takes a break from organised events to allow all members to enjoy the summer time. Events recommence in February. Information on a range of interesting and informative activities will be posted in 2018. In the meantime you could put Monday February 19th in to your diary for the monthly meeting at The Community Centre in Lindfield!\n  If you would like more information send an email to president@permaculturenorth.org.au  Your email will be forwarded to a personal email address so please use the title 'PSN Enquiry'\n
DTSTAMP:20260424T162953Z
END:VEVENT
END:VCALENDAR
