BEGIN:VCALENDAR
VERSION:2.0
METHOD:PUBLISH
BEGIN:VEVENT
UID:WILD_APRICOT_EVENT_2771332_SESSION_1
DTSTART:20180826T000000Z
DTEND:20180826T050000Z
SUMMARY:PSN Permabee - Sunday 26 August - Naremburn
LOCATION:Address provided with event registration
DESCRIPTION:https://permaculturenorth.org.au/event-2771332\n\n\nPermabee - 26 August - Naremburn\nAre you interested in helping a local community garden renovate their raised bed and turn it into a wicking bed?  \n \n So\, what is a wicking bed?  It's essentially a giant "self watering pot" in the form of a garden bed. Wicking beds have many benefits both environmentally and horticulturally - but don't trust my word for it\, research it yourself and make up your own mind.  \n \n The permabee starts at 10.00am followed by a guided garden tour of established verge gardens in the afternoon (around 2pm)\, where you can get some inspiration and learn how you can create your own!\n  \n\n\n WHAT TO BRING...\n \n As this will be held at a community garden\, please bring a plate to share. \n \n Please bring personal protection gear such as enclosed shoes/ boots\, hat\, gloves\, sunscreen and a water bottle.\n \n The address will be provided once registration has been completed. The address is within the emailed confirmation\, towards the bottom of the email. \n \n Any questions\, please contact the Garden Team - garden@permaculturenorth.org.au  \n  \n\n
DTSTAMP:20260424T195347Z
END:VEVENT
END:VCALENDAR
