BEGIN:VCALENDAR
VERSION:2.0
METHOD:PUBLISH
BEGIN:VEVENT
UID:WILD_APRICOT_EVENT_2772168_SESSION_1
DTSTART:20180916T040000Z
DTEND:20180916T060000Z
SUMMARY:Willoughby Local Group Meeting - Sun 16 September 2018 - Tool Sharpening
LOCATION:Lane Cove
DESCRIPTION:https://permaculturenorth.org.au/event-2772168\n\n\n\n  Get into gear for spring! \n  Give your gardening tools a good “spring clean”! \n  Come to the Willoughby Local Group sharpening workshop led by our highly experienced Alasdair Stuart.\n  \n\n  What you need to bring: lots of smiles and a sharpening stone. If you havern’t got one\, below is a link to one you can buy at Bunnings for $14.\n  https://www.bunnings.com.au/trojan-25-x-50-x-200mm-woodworking-tool-sharpening-stone_p5760313\n\n
DTSTAMP:20260424T164325Z
END:VEVENT
END:VCALENDAR
