BEGIN:VCALENDAR
VERSION:2.0
METHOD:PUBLISH
BEGIN:VEVENT
UID:WILD_APRICOT_EVENT_2772180_SESSION_1
DTSTART:20181027T220000Z
DTEND:20181028T050000Z
SUMMARY:Willoughby Local Group Meeting - Sun 28 October 2018 - Marrickville Tour -FULL
LOCATION:Marrickville Organic Food Market
DESCRIPTION:https://permaculturenorth.org.au/event-2772180\n\n\n\n  Our esteemed guide Barbara Clark is going to take us on a tour of the very hip suburb of Marrickville.\n  First stop : Marrickville Organic Food Market\n  Second stop : Visit the adjacent Bower Recycling Centre\n  Final stop : Barbara will take us on a Greek experience along Illawarra Road- Cornersmith\, the famous sustainable picklery\, Greek bakery and more Greek specialty shops….\n  \n\n  Meeting Point: Will be provided upon registration\n\n  \n\n  As we will be touring food establishment\, we have set a limit of 10 participants. So please register early!!\n  It will be great if we can carpool. More on that later…\n  \n\n                                                                \n\n
DTSTAMP:20260424T160827Z
END:VEVENT
END:VCALENDAR
