BEGIN:VCALENDAR
VERSION:2.0
METHOD:PUBLISH
BEGIN:VEVENT
UID:WILD_APRICOT_EVENT_2772253_SESSION_1
DTSTART:20180303T200000Z
DTEND:20180304T060000Z
SUMMARY:Blue Mountains Edible Garden Trail - Sun 4 March 2018 - FULL
LOCATION:Various Gardens - Blue Mountains
DESCRIPTION:https://permaculturenorth.org.au/event-2772253\n\n\n\n  Edible Garden Festival & Trail \n  2018 will the the FIRST Blue Mountains Edible Garden Festival and Trail and PSN cannot wait to be there!\n  Gardeners up and down the mountains are opening their gardens to inspire you with their amazing vegetable patches\, orchards and food forests. \n  Learn how they are composting\, mulching\, companion planting\, worm farming\, and managing the range of climatic conditions. \n  Visit school gardens\, home gardens\, community gardens and more. \n  Tickets cost $20 per person payable in advance. (Normal price is $25). \n  If you need more information\, you can contact the garden team via email: garden@permaculturenorth.org.au\n                                                                \n\n
DTSTAMP:20260424T162500Z
END:VEVENT
END:VCALENDAR
