BEGIN:VCALENDAR
VERSION:2.0
METHOD:PUBLISH
BEGIN:VEVENT
UID:WILD_APRICOT_EVENT_2772308_SESSION_1
DTSTART:20180413T230000Z
DTEND:20180419T070000Z
SUMMARY:Australasian Permaculture Convergence - 14-19 April 2018 - Canberra
LOCATION:Canberra
DESCRIPTION:https://permaculturenorth.org.au/event-2772308\n\n\n\n  Please go to the following website for further details and to register. \n  https://apc14.permacultureaustralia.org.au/\n\n  This is not a PSN Event.                                          \n\n
DTSTAMP:20260424T162540Z
END:VEVENT
END:VCALENDAR
