BEGIN:VCALENDAR
VERSION:2.0
METHOD:PUBLISH
BEGIN:VEVENT
UID:WILD_APRICOT_EVENT_2795356_SESSION_1
DTSTART:20180118T220000Z
DTEND:20180119T013000Z
SUMMARY:Permabee in Epping – THIS FRIDAY\, 19 January - permaculture for small spaces (session 1 of 2)
LOCATION:Epping
DESCRIPTION:https://permaculturenorth.org.au/event-2795356\n\nThis permabee is a wonderful opportunity to work in one of the most outstanding small gardens that you will ever see. This private town-house garden adjoins the bush and demonstrates many permaculture principals\, techniques and features that can be used for gardens for\n      * ·        Town houses\n\n        * ·        Balconies\n\n        * ·        Terrace houses\, as well as for\n\n        * ·        Suburban gardens.\n\n  Please bring a hat\, closed shoes\, gardening gloves\, sunscreen\, water bottle.\n \n\n  To create your own record the features in this garden\, remember to bring a notepad and camera.\n  This will be a wonderful day\, we hope that you can come for the whole day\, but if you can manage a shorter time\, please let us know.\n \n \n Please register early for catering purposes - lovely food for willing workers :)\n
DTSTAMP:20260424T160816Z
END:VEVENT
BEGIN:VEVENT
UID:WILD_APRICOT_EVENT_2795356_SESSION_2
DTSTART:20180119T020000Z
DTEND:20180119T050000Z
SUMMARY:Permabee in Epping – THIS FRIDAY\, 19 January - permaculture for small spaces (session 2 of 2)
LOCATION:Epping
DESCRIPTION:https://permaculturenorth.org.au/event-2795356\n\nThis permabee is a wonderful opportunity to work in one of the most outstanding small gardens that you will ever see. This private town-house garden adjoins the bush and demonstrates many permaculture principals\, techniques and features that can be used for gardens for\n      * ·        Town houses\n\n        * ·        Balconies\n\n        * ·        Terrace houses\, as well as for\n\n        * ·        Suburban gardens.\n\n  Please bring a hat\, closed shoes\, gardening gloves\, sunscreen\, water bottle.\n \n\n  To create your own record the features in this garden\, remember to bring a notepad and camera.\n  This will be a wonderful day\, we hope that you can come for the whole day\, but if you can manage a shorter time\, please let us know.\n \n \n Please register early for catering purposes - lovely food for willing workers :)\n
DTSTAMP:20260424T160816Z
END:VEVENT
END:VCALENDAR
