BEGIN:VCALENDAR
VERSION:2.0
METHOD:PUBLISH
BEGIN:VEVENT
UID:WILD_APRICOT_EVENT_2809686_SESSION_1
DTSTART:20180219T080000Z
DTEND:20180219T103000Z
SUMMARY:PSN Monthly Meeting - Climate Change & its impacts on the low-lying islands of the Pacific with Vince Sicari
LOCATION:Lindfield Community Hall\, 259 Pacific Highway\, Lindfield
DESCRIPTION:https://permaculturenorth.org.au/event-2809686\n\nHow much is climate change really affecting the low-lying islands of the Pacific?\n  Vince Sicari has travelled to the island of Kiribati and will share his experiences of seeing the effects of climate change for himself.\n  His talk will cover:\n      * the causes of climate change including the effects of greenhouse gases\, its impact on global temperatures and the mechanisms involved in sea level rise\, ocean acidification\, the generation of cyclones and rainfall patterns\n\n        * specific impacts on Pacific islands and especially the low-lying island states of Tuvalu and Kiribati - including the impacts of sea level rise\, coastal erosion\, salination of water supplies\, effects of cyclones and tidal surges\, and effects of ocean acidification on fisheries. \n\n        * the basic concepts of the world response to climate change including the ideas of mitigation\, adaptation\, “loss and damage” and resilience building. \n\n        * the potential for adaptation\, and the ethical and human rights issues associated with climate change.\n\n\n  Free for members\, small donation for guests. \n\n  Doors open at 6:30pm - a good time to check out our members' library & catch up with other PSN members. \n  Please join us for supper after the talk.\n  For further information contact vp@permaculturenorth.org.au\n
DTSTAMP:20260424T163105Z
END:VEVENT
END:VCALENDAR
