BEGIN:VCALENDAR
VERSION:2.0
METHOD:PUBLISH
BEGIN:VEVENT
UID:WILD_APRICOT_EVENT_2840291_SESSION_1
DTSTART:20180310T030000Z
DTEND:20180310T050000Z
SUMMARY:Ravioli and Ricotta workshop
LOCATION:21 Scott Street\,Marsfield
DESCRIPTION:https://permaculturenorth.org.au/event-2840291\n\nThe Ryde Group will be holding a fresh pasta Ravioli and Ricotta workshop on Saturday 10th March.\n  Everything will be supplied\;cost is $5.00 person for the ingredients and any surplus will go to PSN.\n  TIME: 2pm to 4pm\n  We will make our own ricotta filling and our own fresh pasta and you'll take yours home and have a taste of mine with my very own tomato sauce.\n  YOU NEED TO BRING: Apron and a flat container to take your ravioli home!\n  You must register.\n  Maximum 9 members\n  \n\n
DTSTAMP:20260424T163131Z
END:VEVENT
END:VCALENDAR
