BEGIN:VCALENDAR
VERSION:2.0
METHOD:PUBLISH
BEGIN:VEVENT
UID:WILD_APRICOT_EVENT_2889066_SESSION_1
DTSTART:20180414T040000Z
DTEND:20180414T060000Z
SUMMARY:Living Skills - Sat 14 April 2018 Bernie the Toolman workshop
LOCATION:Hornsby
DESCRIPTION:https://permaculturenorth.org.au/event-2889066\n\nLiving Skills - Bernie the Toolman workshop \n  Saturday 14 April 2018 2:00 - 4:00pm\n\n    Venue: Hornsby. \n     Address supplied upon registration. Book early. Numbers limited to 20. Many people have already expressed interest.\n    We will visit Bernie and check out his vast collection from his recycling passion\, and especially tools - gardening tools\, handyman tools\, any tools\, in fact\, anything that is sold in the shops that was once in people's homes or gardens.\n  Bring a tool along - eg. secateurs\, axe or anything you need fixing - and Bernie will conduct a workshop of how we can refresh and rejuvenate any old or worn items.\n  Those of us who attended Bernie's talk at Lindfield were so impressed with his knowledge and skills. Here is one man who loves kerbside recycling\, and is happy and generous to share his passion and knowledge with us.\n  Please bring a plate to share for afternoon tea.\n  \n\n  \n\n  \n\n  \n\n
DTSTAMP:20260424T192820Z
END:VEVENT
END:VCALENDAR
