BEGIN:VCALENDAR
VERSION:2.0
METHOD:PUBLISH
BEGIN:VEVENT
UID:WILD_APRICOT_EVENT_2907194_SESSION_1
DTSTART:20180521T090000Z
DTEND:20180521T113000Z
SUMMARY:PSN Monthly Meeting 21 May 2018 - Backyard Chickens with Dr Kathy Fearnside
LOCATION:Lindfield Community Hall\, 259 Pacific Highway\, Lindfield
DESCRIPTION:https://permaculturenorth.org.au/event-2907194\n\nBackyard Chickens with Dr Kathy Fearnside\n  \n  Dr Kathy Fearnside\, an avian vet\, will give an overview of basic health and disease control for backyard chickens.\n  In her talk\, she will cover:\n      * What to look for when buying chooks (age\, breeds etc)\n\n\n        * How to keep them healthy with diet and disease prevention eg vaccinations\, parasite control\n\n  Have any more questions on chooks and how to incorporate them into your permaculture plan? Please bring them to the talk.\n  Want to know about any other feathered backyard birds such as ducks\, geese or quails? Feel free to bring your questions on these as well.\n  Free for members\, small donation for guests. \n\n  Doors open at 6:30pm - a good time to check out our members' library & catch up with other PSN members. \n  Please join us for supper after the talk.\n
DTSTAMP:20260424T161735Z
END:VEVENT
END:VCALENDAR
