BEGIN:VCALENDAR
VERSION:2.0
METHOD:PUBLISH
BEGIN:VEVENT
UID:WILD_APRICOT_EVENT_2907341_SESSION_1
DTSTART:20180428T040000Z
DTEND:20180428T060000Z
SUMMARY:Cold Frame Workshop
LOCATION:Asquith
DESCRIPTION:https://permaculturenorth.org.au/event-2907341\n\nCome let's learn together about extending your growing season from early spring into late autumn using cold frames. We will watch a couple of helpful "how to" videos and then make a cold frame together. Jess has made one cold frame which helped the fruit on her eggplants grow and mature right into June!\n  Bring your hat\, gloves\, drink bottle\, thinking caps\, and something small for afternoon tea. Held at Jess and Phil's place in Asquith\, address provided upon registration.\n
DTSTAMP:20260424T162908Z
END:VEVENT
END:VCALENDAR
