BEGIN:VCALENDAR
VERSION:2.0
METHOD:PUBLISH
BEGIN:VEVENT
UID:WILD_APRICOT_EVENT_2916739_SESSION_1
DTSTART:20180521T090000Z
DTEND:20180521T093000Z
SUMMARY:Election - PSN President\, and Communications Team Leader
LOCATION:Lindfield Community Hall\, 259 Pacific Highway\, Lindfield
DESCRIPTION:https://permaculturenorth.org.au/event-2916739\n\nSend your Nominations now\n  Voting on the night by show of hands - send your proxy vote prior to the night.\n\n
DTSTAMP:20260424T162609Z
END:VEVENT
END:VCALENDAR
