BEGIN:VCALENDAR
VERSION:2.0
METHOD:PUBLISH
BEGIN:VEVENT
UID:WILD_APRICOT_EVENT_2938320_SESSION_1
DTSTART:20180922T040000Z
DTEND:20180922T060000Z
SUMMARY:Living Skills workshop: Soap Making - Saturday 22 September 2018
LOCATION:Wahroonga
DESCRIPTION:https://permaculturenorth.org.au/event-2938320\n\n                                  Living Skills Workshop -                   Soap Making 2:00 - 4:00pm            Saturday 22 September 2018             Here is a wonderful opportunity to learn how to make all-natural handmade soap. Fresh soap needs to cure for 3-6 months\, so what you make now will become beautiful Christmas gifts. We use olive oil and lye\, with goats milk for a beautiful\, smooth\, luxurious texture.      Techniques for soap making and safety rules will be discussed in detail before we embark on making our own soap for you to take home! \n\n  As we will work with strong lye and hot oil\, for safety reasons the workshop is limited to 12 participants. Please do not bring children to the workshop. \n  This activity will be conducted by our lovely member\, Patricia Hicks.\n  Cost: $10.00\nWhat to bring:\n      * an apron\, rubber gloves and protective glasses ready for hands-on experience\n\n        * a notebook to take notes\n\n        * a bag to take some soap home\n\n        * a plate to share for afternoon tea\n\nRegister by clicking on the "Register" button. If you have problems with registering\, please email livingskills@permaculturenorth.org.au\n \n
DTSTAMP:20260424T164051Z
END:VEVENT
END:VCALENDAR
