BEGIN:VCALENDAR
VERSION:2.0
METHOD:PUBLISH
BEGIN:VEVENT
UID:WILD_APRICOT_EVENT_2944845_SESSION_1
DTSTART:20180609T040000Z
DTEND:20180609T060000Z
SUMMARY:Ryde Local Group Meeting - Making Wholemeal Bread
LOCATION:Marsfield - address available with registration
DESCRIPTION:https://permaculturenorth.org.au/event-2944845\n\nMaking Wholemeal Bread with Pez - Saturday 9 June\, 2-4pm\nCost $5 per person (for ingredients)\n  \n\n  Please bring a flat baking tray - everything else will be provided.\n  You will take your loaves home to bake as time is limited\, but you will get to eat bread that will be baked by Peter earlier.\n\n  This workshop is limited to 6 people. \n  Please bring a plate to share (for afternoon tea).  \n\n
DTSTAMP:20260424T162450Z
END:VEVENT
END:VCALENDAR
