BEGIN:VCALENDAR
VERSION:2.0
METHOD:PUBLISH
BEGIN:VEVENT
UID:WILD_APRICOT_EVENT_2950337_SESSION_1
DTSTART:20180818T040000Z
DTEND:20180818T060000Z
SUMMARY:Gnocch with Pez
LOCATION:Marsfield. Address TBA once you register.
DESCRIPTION:https://permaculturenorth.org.au/event-2950337\n\nCome and join Pez onSaturday the 25th May and make restaurant quality gnocchi.\n  Please bring an apron\, and a container to take excess gnocchi home.\n  Click to register https://www.permaculturenorth.org.au/event-2950337\n  \n\n  \n\n
DTSTAMP:20260424T155023Z
END:VEVENT
END:VCALENDAR
