BEGIN:VCALENDAR
VERSION:2.0
METHOD:PUBLISH
BEGIN:VEVENT
UID:WILD_APRICOT_EVENT_2959375_SESSION_1
DTSTART:20180618T090000Z
DTEND:20180618T113000Z
SUMMARY:PSN Monthly Meeting 18 June 2018 - Garden Plans of PSN students
LOCATION:Lindfield Community Hall\, 259 Pacific Highway\, Lindfield
DESCRIPTION:https://permaculturenorth.org.au/event-2959375\n\nGardens Plans of PSN students - the start of a journey\n  Please come and see the garden plans of several former PSN students and learn about the decisions that they have made when creating their designs at the start of their permaculture journey. They will be able to tell you how their plans grew from a rectangle outline to a vision of a sustainbale productive garden. \n  Come and see the evidence that "from little things\, big things grow".\n  The students will be able to answer your questions and tell us how their gardens have progressed since they created their first plans.\n  You can also look through a copy of the two books that are included as part of the course fee for the next Introduction to Permaculture course - Design your own food oasis - click here to book your place.\n\n  https://www.permaculturenorth.org.au/event-2875621\n\n  Free for members\, small donation for guests. Doors open at 6:30pm - a good time to check out our members' library and catch up with other PSN members.\n\n  Please join us for supper and a chat after the talk.\n  \n\n
DTSTAMP:20260424T160704Z
END:VEVENT
END:VCALENDAR
