BEGIN:VCALENDAR
VERSION:2.0
METHOD:PUBLISH
BEGIN:VEVENT
UID:WILD_APRICOT_EVENT_2960792_SESSION_1
DTSTART:20180616T040000Z
DTEND:20180616T070000Z
SUMMARY:Pest Control Workshop
LOCATION:Lindfield
DESCRIPTION:https://permaculturenorth.org.au/event-2960792\n\nGreetings\,\n  PEST CONTROL WORKSHOP  -  SATURDAY JUNE 16 AT 2.pm\n  Possums are hungry and into everything at the moment. Fruit fly are curled up in the ground ready to spring forth on the first warm day of Spring.  The Very Hungry Caterpillar is getting hungrier. \n  But the good news is that  there is a legion of creatures ready and willing to gorge on  pests\, and in so doing help us. There is  also a variety of structures useful for protecting the food we grow. \n  Come and learn about pest control in all it's forms.\n  We have a few short videos to watch and some ideas to pass on\, and some crafty things to make\, \n  Most importantly\, we want your input about ways and means to safeguard your crops. Bring photos or videos or things\, but especially your ideas. \n  Also bring a tasty snack for afternoon tea\,\n  Please register on the website.\n  Looking forward to seeing you then. \n  Di Evans devans2@optusnet.com.au\n  Diana Watson dinet01@aim.com\n
DTSTAMP:20260424T175142Z
END:VEVENT
END:VCALENDAR
