BEGIN:VCALENDAR
VERSION:2.0
METHOD:PUBLISH
BEGIN:VEVENT
UID:WILD_APRICOT_EVENT_3021761_SESSION_1
DTSTART:20180818T030000Z
DTEND:20180818T060000Z
SUMMARY:Ku-ring-gai Local Group Meeting. Beeswax wraps
LOCATION:Coal Loader\, Balls Head Drive\, Waverton
DESCRIPTION:https://permaculturenorth.org.au/event-3021761\n\nKu-ring-gai Local Group Meeting\n  Making beeswax wraps\n  Saturday\,  August 18   1.00 pm - 4.00 pm\n  It was very unfortunate that Margaret had to cancel her workshop on making beeswax wraps\, but\, given the war on waste now raging\, and the fact that the hall was already booked\, Ku-ring-gai decided that it was too important an opportunity to miss.\n  These very attractive wraps and covers for dishes can be used over and over and will keep your food fresh in the fridge or sandwiches fresh in school-bags and brief cases. And they are not plastic!!!  Eventually they will return to the earth. \n        \n\n  To make them we need beeswax and some cotton cloth. We will purchase the beeswax\, but bring some attractive cotton material\, washed at least once. I have some\, but you might prefer your own pattern.\n  We have the hall from 2.00 to 4.00 pm\,  but before that there is the whole beautiful historic Coal Loader Centre for Sustainability to wander in\, plus a thriving community garden.\n  Come at 1.00 pm we will walk around\, then make some tea or coffee and start the beeswax works. \n  Bring something tasty to nibble on\, tea and coffee provided.\n  Please register:  https://www.permaculturenorth.org.au/event-3021761\n  For inquiries\n  Di Evans\,  02 94161896 devans2@optusnet.com.au\n  Diana Watson dinet01@aim.com  94162929\n  \n\n
DTSTAMP:20260424T173345Z
END:VEVENT
END:VCALENDAR
