BEGIN:VCALENDAR
VERSION:2.0
METHOD:PUBLISH
BEGIN:VEVENT
UID:WILD_APRICOT_EVENT_3057167_SESSION_1
DTSTART:20180916T000000Z
DTEND:20180916T060000Z
SUMMARY:Permaculture Garden Opens for Sustainable House Day\, 16 Sep 2018
LOCATION:Denistone
DESCRIPTION:https://permaculturenorth.org.au/event-3057167\n\n\n\n  True sustainability means growing your own food!\n \n This is why on the Sustainable House Day (SHD) on Sunday 16 September\, a permaculture garden of a Permaculture Sydney North (PSN) member opens to the public! Margaret Mossakowska has invited PSN to join her in promoting permaculture to members of public who visit her garden.\n  Check out the Permaculture Sydney North stall and plant sale table. \n\n  For the program of the day please see the SHD website:\n  https://sustainablehouseday.com/house-profile-view/?house_id=25713\n  SHD is an initiative showcasing sustainable houses and/or gardens to the public. It gives visitors a chance to inspect firsthand houses that have been designed\, built or renovated with sustainability in mind as well as the opportunity to talk to owners and receive unbiased advice. \n  There will be plenty of on-street parking on the day\, but use of public transport is encouraged. Denistone Station on T1 line is just across Darvall Park and there are buses coming along Victoria Road (use West Ryde stop) and a bus interchange at Eastwood Station.\n
DTSTAMP:20260424T195041Z
END:VEVENT
END:VCALENDAR
