BEGIN:VCALENDAR
VERSION:2.0
METHOD:PUBLISH
BEGIN:VEVENT
UID:WILD_APRICOT_EVENT_3085745_SESSION_1
DTSTART:20181020T223000Z
DTEND:20181021T053000Z
SUMMARY:PSN Permabee - Sunday 21 October - Rydalmere - CANCELLED
LOCATION:Rydalmere
DESCRIPTION:https://permaculturenorth.org.au/event-3085745\n\n\nPSN Permabee - Sun 21 October 2018 - Rydalmere\n  In October we are off to help three brothers in Rydalmere\, Darryl Graham and Raymond who are passionate about edible gardens and who needs our help to make their dream a reality.\n  Darryl Graham and Raymond have a mild intellectual disability and are involved with community groups and are semi-independent. They have a gorgeous sun drenched flat back garden and love vegetable and fruit gardening. Their wonderfully caring family have been trying to find any organisations that might assist them intermittently in their gardening projects. So PSN have offered to lend a hand by organizing a working bee.\n  \n\n  It is so wonderful to see the pride and joy that gardening brings these gentleman and it would be wonderful to get as many members as possible to come along.\n  The plan for this Permabee is as follows:\n  9:30 - Introductions\, project briefing and safety talk.\n  10.00 – Break into smaller teams to work on the various projects including: converting 3 existing garden beds into wicking beds and installing some irrigation lines to the garden beds.\n  12.30 – Lunch Break (this will be provided).\n  4.00 – Wrap Up and debrief.\n  Come for a couple of hours or the whole day. We have plenty of activities for people with different skills. You don’t have to be Mr. Muscle to come and join us. You just need to have an appetite for learning\, getting your hands dirty and having a laugh.\n  Space is limited to 20 spots\, so register early and don’t miss out!\n  WHAT TO BRING...\n      * Lunch will be provided but feel free to bring a plate to share.\n\n        * Please bring personal protection gear such as enclosed shoes/ boots\, hat\, gloves\, sunscreen and a water bottle.\n\n        * The address will be provided once registration has been completed. The address is within the emailed confirmation\, towards the bottom of the email.\n\n        * Any questions\, please contact the Garden Team - garden@permaculturenorth.org.au\n\n\n  \n\n
DTSTAMP:20260424T154916Z
END:VEVENT
END:VCALENDAR
