BEGIN:VCALENDAR
VERSION:2.0
METHOD:PUBLISH
BEGIN:VEVENT
UID:WILD_APRICOT_EVENT_3094504_SESSION_1
DTSTART:20181104T010000Z
DTEND:20181104T030000Z
SUMMARY:Living Skills workshop: Asian Cooking - Sunday 4 November 2018
LOCATION:St Ives
DESCRIPTION:https://permaculturenorth.org.au/event-3094504\n\n                                      Living Skills Workshop -                   Asian Cooking  12:00 noon - 2:00 pm            now on Sunday 4 November 2018            at St Ives                   Feel like some noodles?  Char Kway teow? Lobak? Special chilli sauce?\n  Come join us for a wonderful opportunity to participate in a workshop to learn Asian cooking. Tickle your taste buds - hot\, spicy\, lime\, ginger\, garlic...yumm.... \n\n  As we will work in a household kitchen\, the workshop is limited to 15 participants. First in best dressed :)  \n  This activity will be conducted by the very talented Jennifer Teo.\n  Cost: $10.00 for PSN members.\nWhat to bring:      * a plate to share after we cook up a storm!\n\nRegister by clicking on the "Register" button. If you have problems with registering\, please email livingskills@permaculturenorth.org.au\n \n
DTSTAMP:20260424T164203Z
END:VEVENT
END:VCALENDAR
