BEGIN:VCALENDAR
VERSION:2.0
METHOD:PUBLISH
BEGIN:VEVENT
UID:WILD_APRICOT_EVENT_3106202_SESSION_1
DTSTART:20181202T030000Z
DTEND:20181202T060000Z
SUMMARY:Gift-making and Christmas party
LOCATION:Lindfield
DESCRIPTION:https://permaculturenorth.org.au/event-3106202\n\nGift making and Christmas party for everybody\n  Run by the KU-RING-GAI LOCAL GROUP - Lindfield\n  2nd December 2018\, 2pm to whenever\n  Ku-ring-gai Local Group is planning a gift-making workshop followed by some eats and drinks and good cheer for everyone on the 2nd December.\n  These will be your gift-making options\n      * Repotting orchids and water irises – Everyone takes home a potted orchid or iris\n\n        * Gift cards with a personal touch\n\n        * Macrame hangers for hanging plants\n\n        * Soup Jars with dried ingredients ready to cook\, and recipes - Kiki’s specialty\n\n        * Lavender bags – a lovely small gift with a card\n\n        * Chocolate cream spread in small jars - by Carmen who knows about     chocolate  \n\n        * Furoshiki – Forget un-recyclable glossy wrapping. Do your Christmas gifts in pretty cloth or in scarves –  Lay is the specialist here.\n\n  Most of the necessary ingredients and components will be here for you\, but we will ask for $15 to compensate the people who have bought stuff. For the furoshiki maybe bring your own large square scarf or material to practice on. I will have some here too. \n  And then we will open a bottle (or two) and have a little celebration both of Christmas and of ten years of Local Group Activity so bring something Christmassy and/or delicious to nibble on. \n  Contacts\n  Di Evans    9416 1896\; 0408 253 490\; devans2@optusnet.com.au\n  Diana Watson     9416 2929\; 0411 021 971\; dinet01@aim.com\n  \n\n
DTSTAMP:20260424T154659Z
END:VEVENT
END:VCALENDAR
