BEGIN:VCALENDAR
VERSION:2.0
METHOD:PUBLISH
BEGIN:VEVENT
UID:WILD_APRICOT_EVENT_3107794_SESSION_1
DTSTART:20181110T230000Z
DTEND:20181111T010000Z
SUMMARY:Living Skills workshop: Skin care products  - Sunday 11 November 2018
LOCATION:Willoughby
DESCRIPTION:https://permaculturenorth.org.au/event-3107794\n\n                                          \n                        Living Skills Workshop -                   Home made skin care products              now from 10:00 am - 12:00 noon             Sunday 11 November 2018            at Willoughby            \n      ...  Do you know? Bees produce beeswax which has anti bacterial and anti-inflammatory properties. When used on the skin\, it forms a protective barrier while locking in moisture.\n  We will make skin care products using beeswax\, such as moisturisers and lip balm.\n  This activity will be conducted by our PSN member Chris Severn. Chris will also show us his aquaponics and garden complete with a bee hive.\n\n  The workshop is limited to 10 participants. Do come and join in the fun!\n\n  Cost: $10.00 for PSN members.\nWhat to bring:      * a plate to share  \n\nRegister by clicking on the "Register" button. If you have problems with registering\, please email livingskills@permaculturenorth.org.au\n \n
DTSTAMP:20260424T194648Z
END:VEVENT
END:VCALENDAR
