BEGIN:VCALENDAR
VERSION:2.0
METHOD:PUBLISH
BEGIN:VEVENT
UID:WILD_APRICOT_EVENT_3145780_SESSION_1
DTSTART:20181208T050000Z
DTEND:20181208T050000Z
SUMMARY:Hornsby Group Christmas Party
LOCATION:Pennant Hills
DESCRIPTION:https://permaculturenorth.org.au/event-3145780\n\nHornsby Local Group members are invited to come along to the PSN Hornsby Local Group Christmas Party and Seed & Crop Swap at Sue Patterson's place.\n  Saturday the 8th of December. Arrive from 4pm onwards\n  Bring a plate of food to share and BYO drinks\n  Also bring any seeds or crop swap items that you'd like to swap\n\n  Sue has a big deck with a lovely bush outlook. Come along for a lovely relaxing event\n\n  Address on registration\n\n
DTSTAMP:20260424T160250Z
END:VEVENT
END:VCALENDAR
