BEGIN:VCALENDAR
VERSION:2.0
METHOD:PUBLISH
BEGIN:VEVENT
UID:WILD_APRICOT_EVENT_3152996_SESSION_1
DTSTART:20181215T030000Z
DTEND:20181215T060000Z
SUMMARY:Ryde local group Christmas party 15th Dec
LOCATION:43 Conrad st\,North Ryde
DESCRIPTION:https://permaculturenorth.org.au/event-3152996\n\nHi Permies\n  It's Ryde group Christmas party on the 15th Dec\, from 2pm-5pm to be held at Diana Fletcher's home at 43 Conrad St\, North Ryde.\n  Please bring a plate to share and your favourite Xmas beverage.\n  Diana will provide coffee and tea.\n  Please bring a gift for the gift swap table - something you have made or grown.\n  Also we will reveal what Ryde's events for 2019 will be and get feedback and ideas of what else we could do or change.\n  Merry Christmas to you all and see you at the party.\n  HOHOHO!\n
DTSTAMP:20260424T154859Z
END:VEVENT
END:VCALENDAR
