BEGIN:VCALENDAR
VERSION:2.0
METHOD:PUBLISH
BEGIN:VEVENT
UID:WILD_APRICOT_EVENT_3159465_SESSION_1
DTSTART:20190301T220000Z
DTEND:20190302T020000Z
SUMMARY:Design your own food oasis - Introduction to Permaculture Autumn 2019
LOCATION:
DESCRIPTION:https://permaculturenorth.org.au/event-3159465\n\nDesign your own food oasis – for your balcony\, backyard\, or townhouse\n  Book now for this highly acclaimed exciting 10-week permaculture course\n                          ***\n                        Lucinda’s townhouse garden\n                                  Dates:\n                        2 March to 6 April 2019 AND 4 May to 25 May 2019\n         Saturday mornings 9.00am to 1.00pm.\n                                  Cost:\n                        Members: $250\n         Non members: $280 (includes membership of PSN)\n                                  Included:\n                        Your course fee includes two outstanding books\n          ·       Introduction to Permaculture by Bill Mollison and\n          ·       Earth Users’ Guide to Permaculture by Rosemary Morrow\, illustrated by Rob Allsop.\n          ·       Excursions to working permaculture gardens and community gardens\n                         Flyer:                 ·       Download the flyer here 20190302_PSN flyer Autumn 2019 Final A4.pdf\n                                  You will:\n                        ·       visit different working permaculture gardens and community gardens and hear from the owners of the garden about their permaculture adventures\n          ·       create your home garden design for your backyard\, balcony\, rooftop\, courtyard\, planter boxes in a sunny part of your house or apartment\, or pots on a window ledge.\n                                  To Register:\n                        Please visit www.permaculturenorth.org.au -- or click on\n          https://www.permaculturenorth.org.au/event-3159465 to reserve your place.\n                                  Contact:\n                        For enquiries\, please contact Diana Watson or Di Evans at \n          education@permaculturenorth.org.au\n                  \n\n  \n\n  \n\n  \n\n
DTSTAMP:20260424T155201Z
END:VEVENT
END:VCALENDAR
