BEGIN:VCALENDAR
VERSION:2.0
METHOD:PUBLISH
BEGIN:VEVENT
UID:WILD_APRICOT_EVENT_3210023_SESSION_1
DTSTART:20190318T080000Z
DTEND:20190318T103000Z
SUMMARY:PSN Monthly Meeting -  Royal Rehab Productive Garden Project with Julie Pryor
LOCATION:Lindfield Community Hall\, 259 Pacific Highway\, Lindfield
DESCRIPTION:https://permaculturenorth.org.au/event-3210023\n\nRoyal Rehab Productive Garden Project - Productive gardening as a context and mechanism for rehabilitation\n  PSN member\, Julie Pryor\, presents on how a productive garden was introduced as part of inpatient rehabilitation programs at Royal Rehabilitation. Julie was instrumental in the development of this initiative in 2015.  \n  The garden\, tended by patients during their therapy sessions\, grows edibles and their companion plants. Produce from the garden is also used by patients in meal preparation sessions.\n  Come hear how gardening has supported patients back into usual life\, and how staff\, patients and volunteers contribute to its success.\n  \n\n  Free for members\, small donation for guests. \n  Doors open at 6:30pm - a good time to check out our members' library & catch up with other PSN members. \n  Please join us for supper after the talk.\n
DTSTAMP:20260424T164229Z
END:VEVENT
END:VCALENDAR
