BEGIN:VCALENDAR
VERSION:2.0
METHOD:PUBLISH
BEGIN:VEVENT
UID:WILD_APRICOT_EVENT_3229980_SESSION_1
DTSTART:20190216T223000Z
DTEND:20190217T053000Z
SUMMARY:PSN Permabee - Sunday 17 February 2019 - Northbridge
LOCATION:Northbridge Community Garden
DESCRIPTION:https://permaculturenorth.org.au/event-3229980\n\n\n\n  Permabee – Sunday 17 February 2019 - Northbridge \n  Did you know that there is an established community garden in the middle of Northbridge? \n  Community gardens are a great place to meet other edible gardeners and to discover new plants to grow and get useful growing tips that you can use in your own garden.\n  This garden is currently in the process of being converted to make it more accessible to all and we thought this is a great time for us to lend a hand and help them out.\n  There are a few projects planned for the day\, so plenty of options for you to choose from.\n      * Project A: Converting a big concrete pot into a water garden.\n\n        * Project B: Install a new wicking bed.\n\n        * Project C: Plant seedlings in the nursery in preparation for Autumn.\n\n  If you have never been to a permabee before this is a good one to start with - you can do as much or as little as you want (you don't have to stay for the full day either) and more importantly it is a good opportunity to meet other like minded people. \n  \n\n  WHAT TO BRING...\n\n  This will be held in a community garden as such please BYO drink\, mug/cup and a plate to share.\n  Please also bring personal protection gear such as a enclosed shoes/ boots\, hat\, gloves\, sunscreen and a water bottle.\n  Any questions\, please contact the Garden Team - garden@permaculturenorth.org.au  \n
DTSTAMP:20260424T163516Z
END:VEVENT
END:VCALENDAR
