BEGIN:VCALENDAR
VERSION:2.0
METHOD:PUBLISH
BEGIN:VEVENT
UID:WILD_APRICOT_EVENT_3230093_SESSION_1
DTSTART:20190511T000000Z
DTEND:20190511T060000Z
SUMMARY:Open Garden - Saturday 11 May 2019 - Narara Eco Village
LOCATION:Narara Valley High School and Narara Ecovillage\, Narara\, NSW 2250.
DESCRIPTION:https://permaculturenorth.org.au/event-3230093\n\n“MAD ABOUT DIRT”\n  Calling all dirt and soil worshippers\, cultivators\, regenerators\, permaculturalists\, composters and mud-lovers!\n  \n\n  Put this not-to-missed event in your 2019 dairy now.\n  \n\n  Narara Eco Living Network will present a fun and informative day dedicated to “dirt” (mainly soil!).\n      * A day that celebrates the vitality and importance of soil-the living carpet we take for granted\, totally rely on\, and which we are losing much too fast!\n\n        * A day of very practical information: soil science and analysis (testing and tasting!)\, composting and worm farms\, permaculture and regenerative agriculture\, chemistry and biology\, and getting your hands into dirt.\n\n  \n\n  Talks\, demonstrations\, hands-on experiences\, and opportunities to talk with experts. Presenters include ABC television personalities Angus Stewart and Tino Carnevale\, Simon Leake ( SESL\, soils author)\, Prof. Mark Taylor (MacQuarie University)\, Peter Bacon (Woodlots and Wetlands)\, Permaculture experts and more.\n  \n\n  No Registration Required - ALL welcome - members and non-members - why not bring along your friends and family and make a day out of it. \n  \n\n  For more information and updates:\n   Web: http://neln.org.au/mad-about-dirt-sat-11th-may-2019/ Facebook: https://www.facebook.com/NararaEcoburbia/\n  Richard and Joan Cassels\, MAD ABOUT DIRT event organisers.\n  Email: madaboutdirt@iinet.net.au\n  “Restoring People and Planet One Plot at a a Time” \n\n
DTSTAMP:20260424T154813Z
END:VEVENT
END:VCALENDAR
