BEGIN:VCALENDAR
VERSION:2.0
METHOD:PUBLISH
BEGIN:VEVENT
UID:WILD_APRICOT_EVENT_3253090_SESSION_1
DTSTART:20190331T030000Z
DTEND:20190331T050000Z
SUMMARY:Willoughby Local Group Meeting - Sun 31 March 2019 - Tempeh\, Miso & Dip Making
LOCATION:Naremburn
DESCRIPTION:https://permaculturenorth.org.au/event-3253090\n\n\n\n  Three presentations on the art of making something yummy and packed with nutrients.\n  Barbara is going to show and tell how to make fresh homemade tempeh which is considered to be one of the most delicious and nutritious plant based foods ever!\n  \n\n  Yuki is going to share his knowledge of how to make miso\, a salty savoury umami rich paste that is packed with protein\, vitamins and minerals. It is a key ingredient in amazingly tasty dishes found in many Asian countries including Japan\, China and Korea\, to just name a few.\n  \n\n  Wendy will discuss and do a demonstration on using excesses from the garden to make dips.\n  \n\n
DTSTAMP:20260424T164101Z
END:VEVENT
END:VCALENDAR
