BEGIN:VCALENDAR
VERSION:2.0
METHOD:PUBLISH
BEGIN:VEVENT
UID:WILD_APRICOT_EVENT_3261506_SESSION_1
DTSTART:20190330T030000Z
DTEND:20190330T050000Z
SUMMARY:Candle Making using Soy Wax
LOCATION:Wahroonga
DESCRIPTION:https://permaculturenorth.org.au/event-3261506\n\nCome and join us and learn how to make your own soy wax candles in lidded glass jars as well as soy melts for oil burners.  They are 100% natural and better for the environment.\n\n  There will be a selection of fragrances for you to choose from.\n  All materials are supplied and you get to take home 2 candles and  "soy melts" made from the leftover soy wax and a tote bag to carry them home in.\n\n  \n
DTSTAMP:20260424T155115Z
END:VEVENT
END:VCALENDAR
