BEGIN:VCALENDAR
VERSION:2.0
METHOD:PUBLISH
BEGIN:VEVENT
UID:WILD_APRICOT_EVENT_3286336_SESSION_1
DTSTART:20190622T000000Z
DTEND:20190622T060000Z
SUMMARY:Beauty from Natural Products with Pat Collins
LOCATION:Roseville
DESCRIPTION:https://permaculturenorth.org.au/event-3286336\n\nBEAUTY FROM NATURAL PRODUCTS\n\n  This is a workshop run by Pat Collins who has been teaching for over 23 years and has more than 20 years of Practice as a Herbalist. She has written a number of books including ones on weeds and their uses.\n  The workshop will start by learning about the herbs\, related subjects and the items that will be made and then we will all break into groups and create the products which will be divided up for everyone to take home.\n  You will learn how to create a natural cosmetic range and understand more about the ingredients that are in common cosmetics and how you can replace them.  You will learn about the oils\, herbs\, butters and so much more that will nourish and revitalise your skin type.  Products made will include -\n       *    Clays                             \n\n       *    Scrub\n\n       *    Cleanser                            \n       *    Toner\n       *    Aloe and Comfrey Moisturing Cream\n       *    Body butter\n       *    Rich cream for sensitive skin\n       *    Nourishing oil\n       *    Hydrating lotion \n  This is an all day workshop running from 10am till 4pm at Roseville.\n  You will take home a jar of each of the products made and a tote bag to carry them home in.\n
DTSTAMP:20260424T154952Z
END:VEVENT
END:VCALENDAR
