BEGIN:VCALENDAR
VERSION:2.0
METHOD:PUBLISH
BEGIN:VEVENT
UID:WILD_APRICOT_EVENT_3294163_SESSION_1
DTSTART:20190309T030000Z
DTEND:20190309T050000Z
SUMMARY:Learn to make Tiramisu
LOCATION:Marsfield
DESCRIPTION:https://permaculturenorth.org.au/event-3294163\n\nPeter Pez is teaching us how to make a sexy type of Tiramisu!\n  Please bring an apron and a container to take some cake home.\n  Where: Marsfield&#x2028\;\n When: 9th of May\, from 2pm till 4pm.\n  Address supplied on registration.\n \n\n
DTSTAMP:20260424T164036Z
END:VEVENT
END:VCALENDAR
