BEGIN:VCALENDAR
VERSION:2.0
METHOD:PUBLISH
BEGIN:VEVENT
UID:WILD_APRICOT_EVENT_3319240_SESSION_1
DTSTART:20190503T230000Z
DTEND:20190505T070000Z
SUMMARY:International Permaculture Day - Sat 4 May & Sun 5 May 2019 - Volunteers Needed
LOCATION:TBC
DESCRIPTION:https://permaculturenorth.org.au/event-3319240\n\nInternational Permaculture Day \n  Sat 4 May and Sun 5 May 2019\n  \n\n  Every year PSN is a proud supporter of International Permaculture Day. So save the date and keep a lookout for further information. \n\n  \n\n  This year we have Lucinda and Margaret opening their permaculture garden to the public.\n  \n\n  Details of Lucinda's open garden: https://permacultureday.org/event/lucindas-townhouse-garden/\n  \n\n  Details of Margaret's open garden: https://permacultureday.org/event/moss-house-open-garden-permaculture-sydney-north-event/\n  \n\n  If it is anything like last year\, we expect it to be a big day with over 200 visitors. So we need all the help we can get!\n  \n\n  We will need people who can assist with set up\, registration of visitors\, plant sale\, tidying up at end of event\, serving tea and coffee\, talking about Permaculture and other tasks for the day. \n  \n\n  Any assistance or any duration would be much appreciated. \n  \n\n  Please register or email the Garden Team (garden@permaculturenorth.org.au) if you would like to volunteer and we will contact you with more details closer to the date. \n  \n\n  \n\n
DTSTAMP:20260424T195337Z
END:VEVENT
END:VCALENDAR
